BEGIN:VCALENDAR
VERSION:2.0
PRODID:-//Feuerwehr Bad Bellingen - ECPv6.15.15//NONSGML v1.0//EN
CALSCALE:GREGORIAN
METHOD:PUBLISH
X-WR-CALNAME:Feuerwehr Bad Bellingen
X-ORIGINAL-URL:https://feuerwehr-bad-bellingen.de
X-WR-CALDESC:Veranstaltungen für Feuerwehr Bad Bellingen
REFRESH-INTERVAL;VALUE=DURATION:PT1H
X-Robots-Tag:noindex
X-PUBLISHED-TTL:PT1H
BEGIN:VTIMEZONE
TZID:Europe/Berlin
BEGIN:DAYLIGHT
TZOFFSETFROM:+0100
TZOFFSETTO:+0200
TZNAME:CEST
DTSTART:20250330T010000
END:DAYLIGHT
BEGIN:STANDARD
TZOFFSETFROM:+0200
TZOFFSETTO:+0100
TZNAME:CET
DTSTART:20251026T010000
END:STANDARD
BEGIN:DAYLIGHT
TZOFFSETFROM:+0100
TZOFFSETTO:+0200
TZNAME:CEST
DTSTART:20260329T010000
END:DAYLIGHT
BEGIN:STANDARD
TZOFFSETFROM:+0200
TZOFFSETTO:+0100
TZNAME:CET
DTSTART:20261025T010000
END:STANDARD
BEGIN:DAYLIGHT
TZOFFSETFROM:+0100
TZOFFSETTO:+0200
TZNAME:CEST
DTSTART:20270328T010000
END:DAYLIGHT
BEGIN:STANDARD
TZOFFSETFROM:+0200
TZOFFSETTO:+0100
TZNAME:CET
DTSTART:20271031T010000
END:STANDARD
END:VTIMEZONE
BEGIN:VEVENT
DTSTART;TZID=Europe/Berlin:20260508T193000
DTEND;TZID=Europe/Berlin:20260508T220000
DTSTAMP:20260422T130235
CREATED:20260201T103553Z
LAST-MODIFIED:20260201T103553Z
UID:11149-1778268600-1778277600@feuerwehr-bad-bellingen.de
SUMMARY:Übung Bad Bellingen / Hertingen
DESCRIPTION:
URL:https://feuerwehr-bad-bellingen.de/event/uebung-bad-bellingen-hertingen/
LOCATION:Feuerwehr Bad Bellingen\, Im Grund 4\, Bad Bellingen\, Deutschland\, 79415\, Deutschland
CATEGORIES:Übungsabend
END:VEVENT
BEGIN:VEVENT
DTSTART;TZID=Europe/Berlin:20260515T193000
DTEND;TZID=Europe/Berlin:20260515T220000
DTSTAMP:20260422T130235
CREATED:20260201T103806Z
LAST-MODIFIED:20260201T103806Z
UID:11152-1778873400-1778882400@feuerwehr-bad-bellingen.de
SUMMARY:Übung Maschinisten DLK
DESCRIPTION:
URL:https://feuerwehr-bad-bellingen.de/event/uebung-maschinisten-dlk-2/
LOCATION:Feuerwehr Bad Bellingen\, Im Grund 4\, Bad Bellingen\, Deutschland\, 79415\, Deutschland
CATEGORIES:DLK / Maschinisten,Übungsabend
END:VEVENT
BEGIN:VEVENT
DTSTART;TZID=Europe/Berlin:20260522T193000
DTEND;TZID=Europe/Berlin:20260522T220000
DTSTAMP:20260422T130235
CREATED:20260201T104019Z
LAST-MODIFIED:20260201T104019Z
UID:11154-1779478200-1779487200@feuerwehr-bad-bellingen.de
SUMMARY:Übung Gruppenführer\, Zugführer
DESCRIPTION:
URL:https://feuerwehr-bad-bellingen.de/event/uebung-gruppenfuehrer-zugfuehrer/
LOCATION:Deutschland
CATEGORIES:GF / ZF Schulung
END:VEVENT
END:VCALENDAR