BEGIN:VCALENDAR
VERSION:2.0
PRODID:-//Feuerwehr Bad Bellingen - ECPv6.15.15//NONSGML v1.0//EN
CALSCALE:GREGORIAN
METHOD:PUBLISH
X-WR-CALNAME:Feuerwehr Bad Bellingen
X-ORIGINAL-URL:https://feuerwehr-bad-bellingen.de
X-WR-CALDESC:Veranstaltungen für Feuerwehr Bad Bellingen
REFRESH-INTERVAL;VALUE=DURATION:PT1H
X-Robots-Tag:noindex
X-PUBLISHED-TTL:PT1H
BEGIN:VTIMEZONE
TZID:Europe/Berlin
BEGIN:DAYLIGHT
TZOFFSETFROM:+0100
TZOFFSETTO:+0200
TZNAME:CEST
DTSTART:20250330T010000
END:DAYLIGHT
BEGIN:STANDARD
TZOFFSETFROM:+0200
TZOFFSETTO:+0100
TZNAME:CET
DTSTART:20251026T010000
END:STANDARD
BEGIN:DAYLIGHT
TZOFFSETFROM:+0100
TZOFFSETTO:+0200
TZNAME:CEST
DTSTART:20260329T010000
END:DAYLIGHT
BEGIN:STANDARD
TZOFFSETFROM:+0200
TZOFFSETTO:+0100
TZNAME:CET
DTSTART:20261025T010000
END:STANDARD
BEGIN:DAYLIGHT
TZOFFSETFROM:+0100
TZOFFSETTO:+0200
TZNAME:CEST
DTSTART:20270328T010000
END:DAYLIGHT
BEGIN:STANDARD
TZOFFSETFROM:+0200
TZOFFSETTO:+0100
TZNAME:CET
DTSTART:20271031T010000
END:STANDARD
END:VTIMEZONE
BEGIN:VEVENT
DTSTART;TZID=Europe/Berlin:20260725T160000
DTEND;TZID=Europe/Berlin:20260725T235500
DTSTAMP:20260422T130133
CREATED:20260201T105029Z
LAST-MODIFIED:20260201T110642Z
UID:11164-1784995200-1785023700@feuerwehr-bad-bellingen.de
SUMMARY:Lichterfest Bad Bellingen
DESCRIPTION:
URL:https://feuerwehr-bad-bellingen.de/event/lichterfest-bad-bellingen/
LOCATION:Kurhaus Bad Bellingen\, Badstraße\, Bad Bellingen 13\, Baden Würtemberg\, 79415\, Deutschland
CATEGORIES:Lichterfest
END:VEVENT
END:VCALENDAR