BEGIN:VCALENDAR
VERSION:2.0
PRODID:-//Feuerwehr Bad Bellingen - ECPv6.15.15//NONSGML v1.0//EN
CALSCALE:GREGORIAN
METHOD:PUBLISH
X-ORIGINAL-URL:https://feuerwehr-bad-bellingen.de
X-WR-CALDESC:Veranstaltungen für Feuerwehr Bad Bellingen
REFRESH-INTERVAL;VALUE=DURATION:PT1H
X-Robots-Tag:noindex
X-PUBLISHED-TTL:PT1H
BEGIN:VTIMEZONE
TZID:Europe/Berlin
BEGIN:DAYLIGHT
TZOFFSETFROM:+0100
TZOFFSETTO:+0200
TZNAME:CEST
DTSTART:20240331T010000
END:DAYLIGHT
BEGIN:STANDARD
TZOFFSETFROM:+0200
TZOFFSETTO:+0100
TZNAME:CET
DTSTART:20241027T010000
END:STANDARD
BEGIN:DAYLIGHT
TZOFFSETFROM:+0100
TZOFFSETTO:+0200
TZNAME:CEST
DTSTART:20250330T010000
END:DAYLIGHT
BEGIN:STANDARD
TZOFFSETFROM:+0200
TZOFFSETTO:+0100
TZNAME:CET
DTSTART:20251026T010000
END:STANDARD
BEGIN:DAYLIGHT
TZOFFSETFROM:+0100
TZOFFSETTO:+0200
TZNAME:CEST
DTSTART:20260329T010000
END:DAYLIGHT
BEGIN:STANDARD
TZOFFSETFROM:+0200
TZOFFSETTO:+0100
TZNAME:CET
DTSTART:20261025T010000
END:STANDARD
BEGIN:DAYLIGHT
TZOFFSETFROM:+0100
TZOFFSETTO:+0200
TZNAME:CEST
DTSTART:20270328T010000
END:DAYLIGHT
BEGIN:STANDARD
TZOFFSETFROM:+0200
TZOFFSETTO:+0100
TZNAME:CET
DTSTART:20271031T010000
END:STANDARD
END:VTIMEZONE
BEGIN:VEVENT
DTSTART;TZID=Europe/Berlin:20260419T100000
DTEND;TZID=Europe/Berlin:20260419T133000
DTSTAMP:20260422T112409
CREATED:20260201T102744Z
LAST-MODIFIED:20260201T102744Z
UID:11139-1776592800-1776605400@feuerwehr-bad-bellingen.de
SUMMARY:Verkehrssicherung Rheinauenlauf TV Rheinweiler.
DESCRIPTION:
URL:https://feuerwehr-bad-bellingen.de/event/verkehrssicherung-rheinauenlauf-tv-rheinweiler/
LOCATION:Feuerwehr Bad Bellingen\, Im Grund 4\, Bad Bellingen\, Deutschland\, 79415\, Deutschland
CATEGORIES:Verkehrssicherung
END:VEVENT
BEGIN:VEVENT
DTSTART;TZID=Europe/Berlin:20260410T193000
DTEND;TZID=Europe/Berlin:20260410T220000
DTSTAMP:20260422T112409
CREATED:20260201T102542Z
LAST-MODIFIED:20260201T102542Z
UID:11137-1775849400-1775858400@feuerwehr-bad-bellingen.de
SUMMARY:Übung Bad Bellingen
DESCRIPTION:
URL:https://feuerwehr-bad-bellingen.de/event/uebung-bad-bellingen-4/
LOCATION:Feuerwehr Bad Bellingen\, Im Grund 4\, Bad Bellingen\, Deutschland\, 79415\, Deutschland
CATEGORIES:Übungsabend
END:VEVENT
BEGIN:VEVENT
DTSTART;TZID=Europe/Berlin:20260327T190000
DTEND;TZID=Europe/Berlin:20260327T233000
DTSTAMP:20260422T112409
CREATED:20260104T162552Z
LAST-MODIFIED:20260104T162552Z
UID:11109-1774638000-1774654200@feuerwehr-bad-bellingen.de
SUMMARY:Generalversammlung in Hertingen
DESCRIPTION:
URL:https://feuerwehr-bad-bellingen.de/event/generalversammlung-in-hertingen/
LOCATION:Bürgersaal Hertingen\, Hebelstraße 8\, Hertingen\, Baden Würtemberg\, 79415\, Deutschland
CATEGORIES:Hauptversammlung
END:VEVENT
BEGIN:VEVENT
DTSTART;TZID=Europe/Berlin:20260325T183000
DTEND;TZID=Europe/Berlin:20260325T220000
DTSTAMP:20260422T112409
CREATED:20260104T162414Z
LAST-MODIFIED:20260104T162414Z
UID:11107-1774463400-1774476000@feuerwehr-bad-bellingen.de
SUMMARY:Atemschutzübung Eschbach
DESCRIPTION:
URL:https://feuerwehr-bad-bellingen.de/event/atemschutzuebung-eschbach/
LOCATION:Deutschland
CATEGORIES:Übungsabend
END:VEVENT
BEGIN:VEVENT
DTSTART;TZID=Europe/Berlin:20260320T193000
DTEND;TZID=Europe/Berlin:20260320T220000
DTSTAMP:20260422T112409
CREATED:20260104T162213Z
LAST-MODIFIED:20260104T162213Z
UID:11105-1774035000-1774044000@feuerwehr-bad-bellingen.de
SUMMARY:Übung Maschinisten Bad Bellingen
DESCRIPTION:
URL:https://feuerwehr-bad-bellingen.de/event/uebung-maschinisten-bad-bellingen-2/
LOCATION:Feuerwehr Bad Bellingen\, Im Grund 4\, Bad Bellingen\, Deutschland\, 79415\, Deutschland
CATEGORIES:DLK / Maschinisten
END:VEVENT
BEGIN:VEVENT
DTSTART;TZID=Europe/Berlin:20260314T083000
DTEND;TZID=Europe/Berlin:20260314T120000
DTSTAMP:20260422T112409
CREATED:20260212T183959Z
LAST-MODIFIED:20260219T175737Z
UID:11203-1773477000-1773489600@feuerwehr-bad-bellingen.de
SUMMARY:Katzenbergtunnelübung
DESCRIPTION:
URL:https://feuerwehr-bad-bellingen.de/event/katzenbergtunneluebung/
LOCATION:Feuerwehr Bad Bellingen\, Im Grund 4\, Bad Bellingen\, Deutschland\, 79415\, Deutschland
CATEGORIES:Übung Katzenbergtunnel
ATTACH;FMTTYPE=image/jpeg:https://feuerwehr-bad-bellingen.de/wp-content/uploads/2024/10/katzenbergtunneluebung_2024_19-scaled.jpg
END:VEVENT
BEGIN:VEVENT
DTSTART;TZID=Europe/Berlin:20260311T193000
DTEND;TZID=Europe/Berlin:20260311T220000
DTSTAMP:20260422T112409
CREATED:20260104T161631Z
LAST-MODIFIED:20260104T161631Z
UID:11103-1773257400-1773266400@feuerwehr-bad-bellingen.de
SUMMARY:Übung Maschinisten DLK
DESCRIPTION:
URL:https://feuerwehr-bad-bellingen.de/event/uebung-maschinisten-dlk/
LOCATION:Deutschland
CATEGORIES:DLK / Maschinisten
END:VEVENT
BEGIN:VEVENT
DTSTART;TZID=Europe/Berlin:20260306T193000
DTEND;TZID=Europe/Berlin:20260306T220000
DTSTAMP:20260422T112409
CREATED:20260104T161440Z
LAST-MODIFIED:20260104T161440Z
UID:11101-1772825400-1772834400@feuerwehr-bad-bellingen.de
SUMMARY:Übung Bad Bellingen
DESCRIPTION:
URL:https://feuerwehr-bad-bellingen.de/event/uebung-bad-bellingen-3/
LOCATION:Feuerwehr Bad Bellingen\, Im Grund 4\, Bad Bellingen\, Deutschland\, 79415\, Deutschland
CATEGORIES:Übungsabend
END:VEVENT
BEGIN:VEVENT
DTSTART;TZID=Europe/Berlin:20260228T080000
DTEND;TZID=Europe/Berlin:20260228T170000
DTSTAMP:20260422T112409
CREATED:20260104T161227Z
LAST-MODIFIED:20260104T161245Z
UID:11098-1772265600-1772298000@feuerwehr-bad-bellingen.de
SUMMARY:Korbbedienerschulung DLK Bad Bellingen
DESCRIPTION:
URL:https://feuerwehr-bad-bellingen.de/event/korbbedienerschulung-dlk-bad-bellingen-2/
LOCATION:Feuerwehr Bad Bellingen\, Im Grund 4\, Bad Bellingen\, Deutschland\, 79415\, Deutschland
CATEGORIES:Übungsabend
END:VEVENT
BEGIN:VEVENT
DTSTART;TZID=Europe/Berlin:20260221T100000
DTEND;TZID=Europe/Berlin:20260221T235500
DTSTAMP:20260422T112409
CREATED:20260104T161124Z
LAST-MODIFIED:20260212T182527Z
UID:11096-1771668000-1771718100@feuerwehr-bad-bellingen.de
SUMMARY:Fastnachtsfeuer
DESCRIPTION:
URL:https://feuerwehr-bad-bellingen.de/event/fastnachtsfeuer/
LOCATION:Bolzplatz Bamlach\, Alte Weinstraße\, Bamlach\, Deutschland
CATEGORIES:Arbeitseinsatz,Festveranstaltung
ATTACH;FMTTYPE=image/png:https://feuerwehr-bad-bellingen.de/wp-content/uploads/2026/02/FastnachtfeuerEinladung2026.png
END:VEVENT
BEGIN:VEVENT
DTSTART;TZID=Europe/Berlin:20260220T180000
DTEND;TZID=Europe/Berlin:20260220T210000
DTSTAMP:20260422T112409
CREATED:20260104T160833Z
LAST-MODIFIED:20260104T160833Z
UID:11094-1771610400-1771621200@feuerwehr-bad-bellingen.de
SUMMARY:Vorbereitung Fastnachtsfeuer
DESCRIPTION:
URL:https://feuerwehr-bad-bellingen.de/event/vorbereitung-fastnachtsfeuer/
LOCATION:Feuerwehr Bad Bellingen\, Im Grund 4\, Bad Bellingen\, Deutschland\, 79415\, Deutschland
CATEGORIES:Arbeitseinsatz
END:VEVENT
BEGIN:VEVENT
DTSTART;TZID=Europe/Berlin:20260207T080000
DTEND;TZID=Europe/Berlin:20260207T170000
DTSTAMP:20260422T112409
CREATED:20260104T160659Z
LAST-MODIFIED:20260104T160659Z
UID:11092-1770451200-1770483600@feuerwehr-bad-bellingen.de
SUMMARY:Korbbedienerschulung DLK Bad Bellingen
DESCRIPTION:
URL:https://feuerwehr-bad-bellingen.de/event/korbbedienerschulung-dlk-bad-bellingen/
LOCATION:Feuerwehr Bad Bellingen\, Im Grund 4\, Bad Bellingen\, Deutschland\, 79415\, Deutschland
CATEGORIES:Übungsabend
END:VEVENT
BEGIN:VEVENT
DTSTART;TZID=Europe/Berlin:20260206T193000
DTEND;TZID=Europe/Berlin:20260206T220000
DTSTAMP:20260422T112409
CREATED:20260104T160529Z
LAST-MODIFIED:20260104T160529Z
UID:11090-1770406200-1770415200@feuerwehr-bad-bellingen.de
SUMMARY:Übung Bad Bellingen
DESCRIPTION:
URL:https://feuerwehr-bad-bellingen.de/event/uebung-bad-bellingen-2/
LOCATION:Feuerwehr Bad Bellingen\, Im Grund 4\, Bad Bellingen\, Deutschland\, 79415\, Deutschland
CATEGORIES:Übungsabend
END:VEVENT
BEGIN:VEVENT
DTSTART;VALUE=DATE:20260125
DTEND;VALUE=DATE:20260126
DTSTAMP:20260422T112409
CREATED:20260104T160418Z
LAST-MODIFIED:20260104T160418Z
UID:11087-1769299200-1769385599@feuerwehr-bad-bellingen.de
SUMMARY:Bürgermeisterwahl Bad Bellingen
DESCRIPTION:
URL:https://feuerwehr-bad-bellingen.de/event/buergermeisterwahl-bad-bellingen/
LOCATION:Rathaus Bad Bellingen\, Badstraße\, Bad Bellingen\, 79415
END:VEVENT
BEGIN:VEVENT
DTSTART;TZID=Europe/Berlin:20260124T153000
DTEND;TZID=Europe/Berlin:20260124T235500
DTSTAMP:20260422T112409
CREATED:20260104T160043Z
LAST-MODIFIED:20260104T160043Z
UID:11085-1769268600-1769298900@feuerwehr-bad-bellingen.de
SUMMARY:Neujahrsfeier Bad Bellingen
DESCRIPTION:
URL:https://feuerwehr-bad-bellingen.de/event/neujahrsfeier-bad-bellingen/
LOCATION:Deutschland
CATEGORIES:Festveranstaltung
END:VEVENT
BEGIN:VEVENT
DTSTART;TZID=Europe/Berlin:20260123T193000
DTEND;TZID=Europe/Berlin:20260123T220000
DTSTAMP:20260422T112409
CREATED:20260104T155555Z
LAST-MODIFIED:20260104T155752Z
UID:11081-1769196600-1769205600@feuerwehr-bad-bellingen.de
SUMMARY:Übung Gruppenfüher\, Zugführer
DESCRIPTION:
URL:https://feuerwehr-bad-bellingen.de/event/buergermeistertanne-holen/
LOCATION:Feuerwehr Bad Bellingen\, Im Grund 4\, Bad Bellingen\, Deutschland\, 79415\, Deutschland
CATEGORIES:GF / ZF Schulung
END:VEVENT
BEGIN:VEVENT
DTSTART;TZID=Europe/Berlin:20260109T193000
DTEND;TZID=Europe/Berlin:20260109T220000
DTSTAMP:20260422T112409
CREATED:20260104T155224Z
LAST-MODIFIED:20260104T155224Z
UID:11079-1767987000-1767996000@feuerwehr-bad-bellingen.de
SUMMARY:Übung Bad Bellingen
DESCRIPTION:
URL:https://feuerwehr-bad-bellingen.de/event/uebung-bad-bellingen/
LOCATION:Feuerwehr Bad Bellingen\, Im Grund 4\, Bad Bellingen\, Deutschland\, 79415\, Deutschland
CATEGORIES:Übungsabend
END:VEVENT
BEGIN:VEVENT
DTSTART;TZID=Europe/Berlin:20251205T193000
DTEND;TZID=Europe/Berlin:20251205T220000
DTSTAMP:20260422T112409
CREATED:20250119T115933Z
LAST-MODIFIED:20250119T115933Z
UID:10547-1764963000-1764972000@feuerwehr-bad-bellingen.de
SUMMARY:Übung Bad Bellingen
DESCRIPTION:
URL:https://feuerwehr-bad-bellingen.de/event/uebung-bad-bellingen-12/
LOCATION:Feuerwehr Bad Bellingen\, Im Grund 4\, Bad Bellingen\, Deutschland\, 79415\, Deutschland
CATEGORIES:Übungsabend
END:VEVENT
BEGIN:VEVENT
DTSTART;TZID=Europe/Berlin:20251121T193000
DTEND;TZID=Europe/Berlin:20251121T220000
DTSTAMP:20260422T112409
CREATED:20250119T115751Z
LAST-MODIFIED:20250119T115751Z
UID:10545-1763753400-1763762400@feuerwehr-bad-bellingen.de
SUMMARY:Zug und Gruppenführerschulung.
DESCRIPTION:
URL:https://feuerwehr-bad-bellingen.de/event/zug-und-gruppenfuehrerschulung-3/
LOCATION:Feuerwehr Bad Bellingen\, Im Grund 4\, Bad Bellingen\, Deutschland\, 79415\, Deutschland
CATEGORIES:GF / ZF Schulung
END:VEVENT
BEGIN:VEVENT
DTSTART;TZID=Europe/Berlin:20251119T193000
DTEND;TZID=Europe/Berlin:20251119T220000
DTSTAMP:20260422T112409
CREATED:20250119T115621Z
LAST-MODIFIED:20250119T115621Z
UID:10543-1763580600-1763589600@feuerwehr-bad-bellingen.de
SUMMARY:Übung Bad Bellingen. Zugprobe Hertingen
DESCRIPTION:
URL:https://feuerwehr-bad-bellingen.de/event/uebung-bad-bellingen-zugprobe-hertingen/
LOCATION:Feuerwehr Bad Bellingen\, Im Grund 4\, Bad Bellingen\, Deutschland\, 79415\, Deutschland
CATEGORIES:Übungsabend
END:VEVENT
BEGIN:VEVENT
DTSTART;TZID=Europe/Berlin:20251111T000000
DTEND;TZID=Europe/Berlin:20251111T000000
DTSTAMP:20260422T112409
CREATED:20250119T115434Z
LAST-MODIFIED:20250119T115434Z
UID:10541-1762819200-1762819200@feuerwehr-bad-bellingen.de
SUMMARY:Verkehrssicherung Sankt Martin. Alle Ortsteile
DESCRIPTION:
URL:https://feuerwehr-bad-bellingen.de/event/verkehrssicherung-sankt-martin-alle-ortsteile/
LOCATION:Deutschland
CATEGORIES:Verkehrssicherung
END:VEVENT
BEGIN:VEVENT
DTSTART;TZID=Europe/Berlin:20251108T080000
DTEND;TZID=Europe/Berlin:20251108T170000
DTSTAMP:20260422T112409
CREATED:20250119T115312Z
LAST-MODIFIED:20250119T115312Z
UID:10539-1762588800-1762621200@feuerwehr-bad-bellingen.de
SUMMARY:Schrott-bring-Sammlung.
DESCRIPTION:
URL:https://feuerwehr-bad-bellingen.de/event/schrott-bring-sammlung/
LOCATION:Feuerwehr Bad Bellingen\, Im Grund 4\, Bad Bellingen\, Deutschland\, 79415\, Deutschland
CATEGORIES:Arbeitseinsatz
END:VEVENT
BEGIN:VEVENT
DTSTART;TZID=Europe/Berlin:20251024T193000
DTEND;TZID=Europe/Berlin:20251024T220000
DTSTAMP:20260422T112409
CREATED:20250119T115144Z
LAST-MODIFIED:20250119T115144Z
UID:10537-1761334200-1761343200@feuerwehr-bad-bellingen.de
SUMMARY:Übung Maschinisten. Bad Bellingen
DESCRIPTION:
URL:https://feuerwehr-bad-bellingen.de/event/uebung-maschinisten-bad-bellingen/
LOCATION:Feuerwehr Bad Bellingen\, Im Grund 4\, Bad Bellingen\, Deutschland\, 79415\, Deutschland
CATEGORIES:Übungsabend
END:VEVENT
END:VCALENDAR