BEGIN:VCALENDAR
VERSION:2.0
PRODID:-//Feuerwehr Bad Bellingen - ECPv6.15.15//NONSGML v1.0//EN
CALSCALE:GREGORIAN
METHOD:PUBLISH
X-WR-CALNAME:Feuerwehr Bad Bellingen
X-ORIGINAL-URL:https://feuerwehr-bad-bellingen.de
X-WR-CALDESC:Veranstaltungen für Feuerwehr Bad Bellingen
REFRESH-INTERVAL;VALUE=DURATION:PT1H
X-Robots-Tag:noindex
X-PUBLISHED-TTL:PT1H
BEGIN:VTIMEZONE
TZID:Europe/Berlin
BEGIN:DAYLIGHT
TZOFFSETFROM:+0100
TZOFFSETTO:+0200
TZNAME:CEST
DTSTART:20250330T010000
END:DAYLIGHT
BEGIN:STANDARD
TZOFFSETFROM:+0200
TZOFFSETTO:+0100
TZNAME:CET
DTSTART:20251026T010000
END:STANDARD
BEGIN:DAYLIGHT
TZOFFSETFROM:+0100
TZOFFSETTO:+0200
TZNAME:CEST
DTSTART:20260329T010000
END:DAYLIGHT
BEGIN:STANDARD
TZOFFSETFROM:+0200
TZOFFSETTO:+0100
TZNAME:CET
DTSTART:20261025T010000
END:STANDARD
BEGIN:DAYLIGHT
TZOFFSETFROM:+0100
TZOFFSETTO:+0200
TZNAME:CEST
DTSTART:20270328T010000
END:DAYLIGHT
BEGIN:STANDARD
TZOFFSETFROM:+0200
TZOFFSETTO:+0100
TZNAME:CET
DTSTART:20271031T010000
END:STANDARD
END:VTIMEZONE
BEGIN:VEVENT
DTSTART;TZID=Europe/Berlin:20260314T083000
DTEND;TZID=Europe/Berlin:20260314T120000
DTSTAMP:20260422T061317
CREATED:20260212T183959Z
LAST-MODIFIED:20260219T175737Z
UID:11203-1773477000-1773489600@feuerwehr-bad-bellingen.de
SUMMARY:Katzenbergtunnelübung
DESCRIPTION:
URL:https://feuerwehr-bad-bellingen.de/event/katzenbergtunneluebung/
LOCATION:Feuerwehr Bad Bellingen\, Im Grund 4\, Bad Bellingen\, Deutschland\, 79415\, Deutschland
CATEGORIES:Übung Katzenbergtunnel
ATTACH;FMTTYPE=image/jpeg:https://feuerwehr-bad-bellingen.de/wp-content/uploads/2024/10/katzenbergtunneluebung_2024_19-scaled.jpg
END:VEVENT
END:VCALENDAR