BEGIN:VCALENDAR
VERSION:2.0
PRODID:-//Feuerwehr Bad Bellingen - ECPv6.15.15//NONSGML v1.0//EN
CALSCALE:GREGORIAN
METHOD:PUBLISH
X-ORIGINAL-URL:https://feuerwehr-bad-bellingen.de
X-WR-CALDESC:Veranstaltungen für Feuerwehr Bad Bellingen
REFRESH-INTERVAL;VALUE=DURATION:PT1H
X-Robots-Tag:noindex
X-PUBLISHED-TTL:PT1H
BEGIN:VTIMEZONE
TZID:Europe/Berlin
BEGIN:DAYLIGHT
TZOFFSETFROM:+0100
TZOFFSETTO:+0200
TZNAME:CEST
DTSTART:20240331T010000
END:DAYLIGHT
BEGIN:STANDARD
TZOFFSETFROM:+0200
TZOFFSETTO:+0100
TZNAME:CET
DTSTART:20241027T010000
END:STANDARD
BEGIN:DAYLIGHT
TZOFFSETFROM:+0100
TZOFFSETTO:+0200
TZNAME:CEST
DTSTART:20250330T010000
END:DAYLIGHT
BEGIN:STANDARD
TZOFFSETFROM:+0200
TZOFFSETTO:+0100
TZNAME:CET
DTSTART:20251026T010000
END:STANDARD
BEGIN:DAYLIGHT
TZOFFSETFROM:+0100
TZOFFSETTO:+0200
TZNAME:CEST
DTSTART:20260329T010000
END:DAYLIGHT
BEGIN:STANDARD
TZOFFSETFROM:+0200
TZOFFSETTO:+0100
TZNAME:CET
DTSTART:20261025T010000
END:STANDARD
END:VTIMEZONE
BEGIN:VEVENT
DTSTART;TZID=Europe/Berlin:20251121T193000
DTEND;TZID=Europe/Berlin:20251121T220000
DTSTAMP:20260423T143552
CREATED:20250119T115751Z
LAST-MODIFIED:20250119T115751Z
UID:10545-1763753400-1763762400@feuerwehr-bad-bellingen.de
SUMMARY:Zug und Gruppenführerschulung.
DESCRIPTION:
URL:https://feuerwehr-bad-bellingen.de/event/zug-und-gruppenfuehrerschulung-3/
LOCATION:Feuerwehr Bad Bellingen\, Im Grund 4\, Bad Bellingen\, Deutschland\, 79415\, Deutschland
CATEGORIES:GF / ZF Schulung
END:VEVENT
END:VCALENDAR